BEGIN:VCALENDAR
VERSION:2.0
PRODID:-//Fiera della Sardegna - ECPv6.15.2//NONSGML v1.0//EN
CALSCALE:GREGORIAN
METHOD:PUBLISH
X-WR-CALNAME:Fiera della Sardegna
X-ORIGINAL-URL:https://www.fieradellasardegna.it
X-WR-CALDESC:Eventi per Fiera della Sardegna
REFRESH-INTERVAL;VALUE=DURATION:PT1H
X-Robots-Tag:noindex
X-PUBLISHED-TTL:PT1H
BEGIN:VTIMEZONE
TZID:Europe/Rome
BEGIN:DAYLIGHT
TZOFFSETFROM:+0100
TZOFFSETTO:+0200
TZNAME:CEST
DTSTART:20260329T010000
END:DAYLIGHT
BEGIN:STANDARD
TZOFFSETFROM:+0200
TZOFFSETTO:+0100
TZNAME:CET
DTSTART:20261025T010000
END:STANDARD
END:VTIMEZONE
BEGIN:VEVENT
DTSTART;TZID=Europe/Rome:20260424T210000
DTEND;TZID=Europe/Rome:20260424T230000
DTSTAMP:20260420T150620
CREATED:20260420T082052Z
LAST-MODIFIED:20260420T082052Z
UID:5410-1777064400-1777071600@www.fieradellasardegna.it
SUMMARY:GEN ROSSO - INTERNATIONAL PERFORMING ARTS GROUP
DESCRIPTION:
URL:https://www.fieradellasardegna.it/event/gen-rosso-international-performing-arts-group/
LOCATION:Quartiere fieristico\, viale Diaz\, 221\, Cagliari\, 09126\, Italia
END:VEVENT
BEGIN:VEVENT
DTSTART;VALUE=DATE:20260425
DTEND;VALUE=DATE:20260429
DTSTAMP:20260420T150620
CREATED:20260416T164719Z
LAST-MODIFIED:20260416T164719Z
UID:5406-1777075200-1777420799@www.fieradellasardegna.it
SUMMARY:U23 European Championship
DESCRIPTION:
URL:https://www.fieradellasardegna.it/event/u23-european-championship/
LOCATION:Quartiere fieristico\, viale Diaz\, 221\, Cagliari\, 09126\, Italia
END:VEVENT
BEGIN:VEVENT
DTSTART;TZID=Europe/Rome:20260505T080000
DTEND;TZID=Europe/Rome:20260505T130000
DTSTAMP:20260420T150620
CREATED:20260420T082708Z
LAST-MODIFIED:20260420T082708Z
UID:5413-1777968000-1777986000@www.fieradellasardegna.it
SUMMARY:
DESCRIPTION:
URL:https://www.fieradellasardegna.it/event/5413/
LOCATION:Quartiere fieristico\, viale Diaz\, 221\, Cagliari\, 09126\, Italia
END:VEVENT
END:VCALENDAR