BEGIN:VCALENDAR
VERSION:2.0
PRODID:-//Fiera della Sardegna - ECPv6.15.2//NONSGML v1.0//EN
CALSCALE:GREGORIAN
METHOD:PUBLISH
X-WR-CALNAME:Fiera della Sardegna
X-ORIGINAL-URL:https://www.fieradellasardegna.it
X-WR-CALDESC:Eventi per Fiera della Sardegna
REFRESH-INTERVAL;VALUE=DURATION:PT1H
X-Robots-Tag:noindex
X-PUBLISHED-TTL:PT1H
BEGIN:VTIMEZONE
TZID:Europe/Rome
BEGIN:DAYLIGHT
TZOFFSETFROM:+0100
TZOFFSETTO:+0200
TZNAME:CEST
DTSTART:20180325T010000
END:DAYLIGHT
BEGIN:STANDARD
TZOFFSETFROM:+0200
TZOFFSETTO:+0100
TZNAME:CET
DTSTART:20181028T010000
END:STANDARD
END:VTIMEZONE
BEGIN:VEVENT
DTSTART;TZID=Europe/Rome:20181207T080000
DTEND;TZID=Europe/Rome:20181209T170000
DTSTAMP:20260421T134453
CREATED:20190116T175442Z
LAST-MODIFIED:20190116T180246Z
UID:4108-1544169600-1544374800@www.fieradellasardegna.it
SUMMARY:Fiori e spose 2018
DESCRIPTION:Fiori e Spose\, divenuto oramai un evento consolidato nella programmazione annuale della stagione fieristica della Sardegna\, vede vincente la scelta di puntare sulla qualità e sulla professionalità dell’offerta\, all’interno di uno spazio accogliente e confortevole. Tre giornate interamente dedicate a chi si accinge a coronare un sogno d’amore con il gusto di caratterizzare il momento del matrimonio con bellezza e gusto particolari.  \nUn intero padiglione del quartiere fieristico allestito in maniera elegante e raffinata come si deve per una manifestazione dedicata al matrimonio\, che vede\, accanto alle aree espositive\, specifici spazi dedicati alle sfilate di abiti da cerimonia e non\, con particolare riferimento alla valorizzazione delle sartorie sarde. \nLa rassegna in programma dal 7 al 9 dicembre 2018 propone anche gli affascinanti effetti delle sfilate di moda\, sempre legate al contesto matrimoniale: le nuove proposte o i classici intramontabili. L’ingresso alla manifestazione è gratuito.
URL:https://www.fieradellasardegna.it/event/fiori-e-spose-2018/
LOCATION:Quartiere fieristico\, viale Diaz\, 221\, Cagliari\, 09126\, Italia
CATEGORIES:2018,Tutti
ATTACH;FMTTYPE=image/jpeg:https://www.fieradellasardegna.it/wp-content/uploads/2019/01/Fiori-e-Spose-2018.jpg
END:VEVENT
END:VCALENDAR